BEGIN:VCALENDAR
VERSION:2.0
PRODID:-//Wolf Ridge Environmental Learning Center - ECPv6.15.13//NONSGML v1.0//EN
CALSCALE:GREGORIAN
METHOD:PUBLISH
X-WR-CALNAME:Wolf Ridge Environmental Learning Center
X-ORIGINAL-URL:https://wolf-ridge.org
X-WR-CALDESC:Events for Wolf Ridge Environmental Learning Center
REFRESH-INTERVAL;VALUE=DURATION:PT1H
X-Robots-Tag:noindex
X-PUBLISHED-TTL:PT1H
BEGIN:VTIMEZONE
TZID:America/Chicago
BEGIN:DAYLIGHT
TZOFFSETFROM:-0600
TZOFFSETTO:-0500
TZNAME:CDT
DTSTART:20250309T080000
END:DAYLIGHT
BEGIN:STANDARD
TZOFFSETFROM:-0500
TZOFFSETTO:-0600
TZNAME:CST
DTSTART:20251102T070000
END:STANDARD
BEGIN:DAYLIGHT
TZOFFSETFROM:-0600
TZOFFSETTO:-0500
TZNAME:CDT
DTSTART:20260308T080000
END:DAYLIGHT
BEGIN:STANDARD
TZOFFSETFROM:-0500
TZOFFSETTO:-0600
TZNAME:CST
DTSTART:20261101T070000
END:STANDARD
BEGIN:DAYLIGHT
TZOFFSETFROM:-0600
TZOFFSETTO:-0500
TZNAME:CDT
DTSTART:20270314T080000
END:DAYLIGHT
BEGIN:STANDARD
TZOFFSETFROM:-0500
TZOFFSETTO:-0600
TZNAME:CST
DTSTART:20271107T070000
END:STANDARD
END:VTIMEZONE
BEGIN:VEVENT
DTSTART;VALUE=DATE:20260628
DTEND;VALUE=DATE:20260703
DTSTAMP:20260422T220242
CREATED:20251121T202259Z
LAST-MODIFIED:20251121T202259Z
UID:10000213-1782604800-1783036799@wolf-ridge.org
SUMMARY:Voyageurs
DESCRIPTION:Sign up for Voyageurs \nSummer Camp Website \nEntering grades 6-7 \nAdventure Awaits: Build Confidence and Outdoor Skills at Wolf Ridge Camp!\nExpanding skills with navigation and wilderness exploration. Campers will advance their outdoor skills\, enjoy swimming and bonding with new friends\, and engage in exciting challenges like the Adventure Ropes course. This camp will include an all day hiking experience on the Superior Hiking Trail. It’s a perfect mix of adventure\, learning\, and personal growth in a safe and supportive environment. \nMultiple weeks of this camp are available.
URL:https://wolf-ridge.org/event/voyageurs/
LOCATION:Wolf Ridge Environmental Learning Center\, 6282 Cranberry Road\, Finland\, MN\, 55603
CATEGORIES:Youth Camp
ATTACH;FMTTYPE=image/jpeg:https://wolf-ridge.org/wp-content/uploads/2022/03/Voyageur-Canoe-Wolf-Ridge-e1648661264995.jpg
END:VEVENT
BEGIN:VEVENT
DTSTART;VALUE=DATE:20260705
DTEND;VALUE=DATE:20260711
DTSTAMP:20260422T220242
CREATED:20251121T201718Z
LAST-MODIFIED:20251125T214523Z
UID:10000232-1783209600-1783727999@wolf-ridge.org
SUMMARY:Beginning Survival Camp
DESCRIPTION:Register for Beginning Survival Camp \nSummer Camp Website \nFor students entering grades 4-5 \nCampers will gain wilderness survival skills in this fun camp all about the outdoors!\nEquip your camper with essential wilderness survival skills in this exciting outdoor camp at Wolf Ridge! Throughout the week\, campers will challenge themselves on the adventure ropes course\, learn to identify wild edible plants\, practice fire-building techniques\, and improve their skill in wayfinding. They’ll also enjoy a full day of water activities\, including canoeing\, fishing\, swimming\, and even raft-building. It’s a perfect balance of skill-building\, outdoor adventure\, and fun\, offering your child a memorable experience while fostering teamwork\, confidence\, and a love for the outdoors. \n 
URL:https://wolf-ridge.org/event/beginning-survival-camp/
LOCATION:Wolf Ridge Environmental Learning Center\, 6282 Cranberry Road\, Finland\, MN\, 55603
CATEGORIES:Youth Camp
ATTACH;FMTTYPE=image/jpeg:https://wolf-ridge.org/wp-content/uploads/2024/12/Survival.jpg
END:VEVENT
BEGIN:VEVENT
DTSTART;VALUE=DATE:20260705
DTEND;VALUE=DATE:20260711
DTSTAMP:20260422T220242
CREATED:20251121T202310Z
LAST-MODIFIED:20251121T202310Z
UID:10000214-1783209600-1783727999@wolf-ridge.org
SUMMARY:Voyageurs
DESCRIPTION:Sign up for Voyageurs \nSummer Camp Website \nEntering grades 6-7 \nAdventure Awaits: Build Confidence and Outdoor Skills at Wolf Ridge Camp!\nExpanding skills with navigation and wilderness exploration. Campers will advance their outdoor skills\, enjoy swimming and bonding with new friends\, and engage in exciting challenges like the Adventure Ropes course. This camp will include an all day hiking experience on the Superior Hiking Trail. It’s a perfect mix of adventure\, learning\, and personal growth in a safe and supportive environment. \nMultiple weeks of this camp are available.
URL:https://wolf-ridge.org/event/voyageurs-2/
LOCATION:Wolf Ridge Environmental Learning Center\, 6282 Cranberry Road\, Finland\, MN\, 55603
CATEGORIES:Youth Camp
ATTACH;FMTTYPE=image/jpeg:https://wolf-ridge.org/wp-content/uploads/2022/03/Voyageur-Canoe-Wolf-Ridge-e1648661264995.jpg
END:VEVENT
BEGIN:VEVENT
DTSTART;VALUE=DATE:20260712
DTEND;VALUE=DATE:20260718
DTSTAMP:20260422T220242
CREATED:20251121T201730Z
LAST-MODIFIED:20251230T160615Z
UID:10000233-1783814400-1784332799@wolf-ridge.org
SUMMARY:Survival Camp
DESCRIPTION:Register for Survival Camp \nSummer Camp Website \nFor students entering grades 6-7 \nBuilding Confidence and Wilderness Skills\nGive your camper the ultimate outdoor experience at Wolf Ridge’s Survival Camp! This exciting week is designed to help campers develop practical wilderness survival skills while building confidence and resilience in a fun\, supportive environment. \nThroughout the week\, campers will tackle our rock climbing wall\, learn to identify wild edible plants\, practice essential fire-building techniques\, and master orienteering. They’ll also enjoy a day on the water filled with canoeing\, fishing\, swimming\, and even raft building\, encouraging teamwork and problem-solving. \nThe highlight of the camp is an on-site overnight adventure where campers will put their skills to the test by building and sleeping in their own shelter! It’s an unforgettable experience that fosters independence\, leadership\, and a deep connection to the natural world.
URL:https://wolf-ridge.org/event/survival-camp/
LOCATION:Wolf Ridge Environmental Learning Center\, 6282 Cranberry Road\, Finland\, MN\, 55603
CATEGORIES:Youth Camp
ATTACH;FMTTYPE=image/jpeg:https://wolf-ridge.org/wp-content/uploads/2024/12/Survival.jpg
END:VEVENT
BEGIN:VEVENT
DTSTART;VALUE=DATE:20260712
DTEND;VALUE=DATE:20260718
DTSTAMP:20260422T220242
CREATED:20251121T202321Z
LAST-MODIFIED:20251121T202321Z
UID:10000215-1783814400-1784332799@wolf-ridge.org
SUMMARY:Voyageurs
DESCRIPTION:Sign up for Voyageurs \nSummer Camp Website \nEntering grades 6-7 \nAdventure Awaits: Build Confidence and Outdoor Skills at Wolf Ridge Camp!\nExpanding skills with navigation and wilderness exploration. Campers will advance their outdoor skills\, enjoy swimming and bonding with new friends\, and engage in exciting challenges like the Adventure Ropes course. This camp will include an all day hiking experience on the Superior Hiking Trail. It’s a perfect mix of adventure\, learning\, and personal growth in a safe and supportive environment. \nMultiple weeks of this camp are available.
URL:https://wolf-ridge.org/event/voyageurs-3/
LOCATION:Wolf Ridge Environmental Learning Center\, 6282 Cranberry Road\, Finland\, MN\, 55603
CATEGORIES:Youth Camp
ATTACH;FMTTYPE=image/jpeg:https://wolf-ridge.org/wp-content/uploads/2022/03/Voyageur-Canoe-Wolf-Ridge-e1648661264995.jpg
END:VEVENT
BEGIN:VEVENT
DTSTART;VALUE=DATE:20260719
DTEND;VALUE=DATE:20260725
DTSTAMP:20260422T220242
CREATED:20251121T202332Z
LAST-MODIFIED:20251121T202332Z
UID:10000216-1784419200-1784937599@wolf-ridge.org
SUMMARY:Voyageurs
DESCRIPTION:Sign up for Voyageurs \nSummer Camp Website \nEntering grades 6-7 \nAdventure Awaits: Build Confidence and Outdoor Skills at Wolf Ridge Camp!\nExpanding skills with navigation and wilderness exploration. Campers will advance their outdoor skills\, enjoy swimming and bonding with new friends\, and engage in exciting challenges like the Adventure Ropes course. This camp will include an all day hiking experience on the Superior Hiking Trail. It’s a perfect mix of adventure\, learning\, and personal growth in a safe and supportive environment. \nMultiple weeks of this camp are available.
URL:https://wolf-ridge.org/event/voyageurs-4/
LOCATION:Wolf Ridge Environmental Learning Center\, 6282 Cranberry Road\, Finland\, MN\, 55603
CATEGORIES:Youth Camp
ATTACH;FMTTYPE=image/jpeg:https://wolf-ridge.org/wp-content/uploads/2022/03/Voyageur-Canoe-Wolf-Ridge-e1648661264995.jpg
END:VEVENT
BEGIN:VEVENT
DTSTART;VALUE=DATE:20260726
DTEND;VALUE=DATE:20260801
DTSTAMP:20260422T220242
CREATED:20251121T202343Z
LAST-MODIFIED:20251121T202343Z
UID:10000217-1785024000-1785542399@wolf-ridge.org
SUMMARY:Voyageurs
DESCRIPTION:Sign up for Voyageurs \nSummer Camp Website \nEntering grades 6-7 \nAdventure Awaits: Build Confidence and Outdoor Skills at Wolf Ridge Camp!\nExpanding skills with navigation and wilderness exploration. Campers will advance their outdoor skills\, enjoy swimming and bonding with new friends\, and engage in exciting challenges like the Adventure Ropes course. This camp will include an all day hiking experience on the Superior Hiking Trail. It’s a perfect mix of adventure\, learning\, and personal growth in a safe and supportive environment. \nMultiple weeks of this camp are available.
URL:https://wolf-ridge.org/event/voyageurs-5/
LOCATION:Wolf Ridge Environmental Learning Center\, 6282 Cranberry Road\, Finland\, MN\, 55603
CATEGORIES:Youth Camp
ATTACH;FMTTYPE=image/jpeg:https://wolf-ridge.org/wp-content/uploads/2022/03/Voyageur-Canoe-Wolf-Ridge-e1648661264995.jpg
END:VEVENT
END:VCALENDAR