BEGIN:VCALENDAR
VERSION:2.0
PRODID:-//Wolf Ridge Environmental Learning Center - ECPv6.15.13//NONSGML v1.0//EN
CALSCALE:GREGORIAN
METHOD:PUBLISH
X-WR-CALNAME:Wolf Ridge Environmental Learning Center
X-ORIGINAL-URL:https://wolf-ridge.org
X-WR-CALDESC:Events for Wolf Ridge Environmental Learning Center
REFRESH-INTERVAL;VALUE=DURATION:PT1H
X-Robots-Tag:noindex
X-PUBLISHED-TTL:PT1H
BEGIN:VTIMEZONE
TZID:America/Chicago
BEGIN:DAYLIGHT
TZOFFSETFROM:-0600
TZOFFSETTO:-0500
TZNAME:CDT
DTSTART:20250309T080000
END:DAYLIGHT
BEGIN:STANDARD
TZOFFSETFROM:-0500
TZOFFSETTO:-0600
TZNAME:CST
DTSTART:20251102T070000
END:STANDARD
BEGIN:DAYLIGHT
TZOFFSETFROM:-0600
TZOFFSETTO:-0500
TZNAME:CDT
DTSTART:20260308T080000
END:DAYLIGHT
BEGIN:STANDARD
TZOFFSETFROM:-0500
TZOFFSETTO:-0600
TZNAME:CST
DTSTART:20261101T070000
END:STANDARD
BEGIN:DAYLIGHT
TZOFFSETFROM:-0600
TZOFFSETTO:-0500
TZNAME:CDT
DTSTART:20270314T080000
END:DAYLIGHT
BEGIN:STANDARD
TZOFFSETFROM:-0500
TZOFFSETTO:-0600
TZNAME:CST
DTSTART:20271107T070000
END:STANDARD
END:VTIMEZONE
BEGIN:VEVENT
DTSTART;VALUE=DATE:20260629
DTEND;VALUE=DATE:20260703
DTSTAMP:20260419T195637
CREATED:20251121T201603Z
LAST-MODIFIED:20251125T213647Z
UID:10000225-1782691200-1783036799@wolf-ridge.org
SUMMARY:Day Camp
DESCRIPTION:Daily\, 9am – 4PM \nRegister for Day Camp \nSummer Camp Website \nAdventure Awaits at Our Day Camp – Outdoor Fun and Learning for Grades K-5!\nOutdoor fun and learning for campers who are looking to explore the natural world without an overnight stay. This hands-on summer adventure immerses younger campers in nature\, fostering curiosity\, confidence\, and a love for the outdoors. Campers will build connections and create lasting memories as they explore\, play games\, and engage in developmentally age-appropriate activities. Younger campers will discover animal habitats and investigate the wonders of water\, while older campers will dive deeper into outdoor skills and nature exploration. As a special highlight we invite families to join their campers for a celebratory campfire at the end of the week. Both lunch and snacks are included. \n\nDay Camp: Hummingbirds\nEntering K – 3 \n\nDay Camp: Porcupines\nEntering 4 – 5
URL:https://wolf-ridge.org/event/day-camp/
LOCATION:Wolf Ridge Environmental Learning Center\, 6282 Cranberry Road\, Finland\, MN\, 55603
CATEGORIES:Youth Camp
ATTACH;FMTTYPE=image/jpeg:https://wolf-ridge.org/wp-content/uploads/2022/03/Girl-Outside-at-Wolf-Ridge-e1648655401781.jpg
END:VEVENT
BEGIN:VEVENT
DTSTART;VALUE=DATE:20260705
DTEND;VALUE=DATE:20260711
DTSTAMP:20260419T195637
CREATED:20251121T183527Z
LAST-MODIFIED:20251125T211202Z
UID:10000243-1783209600-1783727999@wolf-ridge.org
SUMMARY:Girls Rock a Backpack Adventure
DESCRIPTION:Register for Girls Rock a Backpack Camp \nSummer Camp Website \nFor students entering grades 8-9 \nThis camp includes an overnight camping adventure away from campus \nHike. Learn. Grow. A Transformative Backcountry Experience for Girls on the Superior Trail\nSpend a week with Wolf Ridge and hike the Superior hiking trail learning practical skills along the way! This girls-only backpacking trip focuses on building a foundation in backcountry skills and a connection to wild places while fostering a sense of confidence in young women. Hike stunning overlooks and explore parts of the Superior National Forest camping in this truly special place! This is a great opportunity for those campers who have aged out of our Girls Rock the Ridge camp\, but are still looking for a challenge and building lifelong memories and skills! \nAre you looking for a transformative experience for your daughter? Join us for a week and hike the rugged Superior Hiking trail\, where young women can develop strength and confidence while learning essential outdoor skills. This world-renowned area\, celebrated for its breathtaking natural beauty and endless exploration opportunities\, provides the perfect backdrop for wilderness tripping and canoe camping.
URL:https://wolf-ridge.org/event/girls-rock-a-backpack-adventure/
LOCATION:Wolf Ridge Environmental Learning Center\, 6282 Cranberry Road\, Finland\, MN\, 55603
CATEGORIES:Youth Camp
ATTACH;FMTTYPE=image/jpeg:https://wolf-ridge.org/wp-content/uploads/young-students-backpacking-at-wolf-ridge-2-scaled.jpg
END:VEVENT
BEGIN:VEVENT
DTSTART;VALUE=DATE:20260705
DTEND;VALUE=DATE:20260711
DTSTAMP:20260419T195637
CREATED:20251121T202053Z
LAST-MODIFIED:20251124T145504Z
UID:10000257-1783209600-1783727999@wolf-ridge.org
SUMMARY:Grandparent & Grandchild Camp
DESCRIPTION:Register for Grandparent & Grandchild Camp \nFAQs \nWhat’s more rewarding than passing on your love of lifelong learning and being outdoors?\nTeaching a younger adventurer to love it too! Wolf Ridge’s Grand Summer Adventure is an intergenerational program designed for grandparents and their grandchildren to explore\, learn\, and connect with the natural world together. \nThroughout the week\, grandparents and grandchildren will hone outdoor skills\, discover the unique history and ecology of Minnesota’s North Woods\, and participate in hands-on adventures that foster curiosity\, teamwork\, and appreciation for nature. This special program offers a chance to share your passion for lifelong learning while creating memories that will last a lifetime. \nDiscounted rates are available for families with six or more participants\, and children 2 and under attend free. Whether hiking\, canoeing\, or exploring the forests\, Grandparent Camp provides the perfect opportunity to bond\, laugh\, and discover the wonders of the outdoors together.
URL:https://wolf-ridge.org/event/grandparent-grandchild-camp/
LOCATION:Wolf Ridge Environmental Learning Center\, 6282 Cranberry Road\, Finland\, MN\, 55603
CATEGORIES:Family Camp
ATTACH;FMTTYPE=image/jpeg:https://wolf-ridge.org/wp-content/uploads/2022/03/Family-Camp-Marshall-Mountain-scaled-1-e1651501901381.jpeg
END:VEVENT
BEGIN:VEVENT
DTSTART;VALUE=DATE:20260705
DTEND;VALUE=DATE:20260718
DTSTAMP:20260419T195637
CREATED:20251121T183549Z
LAST-MODIFIED:20260324T211036Z
UID:10000244-1783209600-1784332799@wolf-ridge.org
SUMMARY:S.T.I.N.T Wilderness Trip
DESCRIPTION:Register for S.T.I.N.T Wilderness Trip \nExplore Wilderness Trips \nDownload Scholarship Application \nEntering grades 9-12 \nThis camp includes an overnight camping adventure away from campus \nJoin Us for the Short Term Immersive Naturalist Training (S.T.I.N.T.) Camp in the Boundary Waters!\nAre you looking for an enriching experience that deepens your teen’s connection to nature? Our S.T.I.N.T. camp invites young naturalists to immerse themselves in the breathtaking wilderness of the Boundary Waters. Led by experienced Wolf Ridge staff\, campers will explore core naturalist concepts while engaging with the unique ecosystems that make this region so special. \nThroughout the camp\, participants will practice essential skills such as slowing down\, making keen observations\, and asking insightful questions. In addition to on-campus learning\, campers will venture into diverse habitats—from lush wetlands to serene pine forests—discovering the incredible life that thrives in these environments. They’ll delve into the fascinating worlds of lichens\, plants\, moths\, and dragonflies\, enhancing their understanding of nature and developing their skills as aspiring naturalists. \nThis immersive experience not only fosters a deeper appreciation for the natural world but also encourages personal growth\, curiosity\, and teamwork. Your child will return home with a wealth of knowledge\, unforgettable memories\, and a newfound passion for the great outdoors.
URL:https://wolf-ridge.org/event/s-t-i-n-t-wildnerness-trip/
LOCATION:Wolf Ridge Environmental Learning Center\, 6282 Cranberry Road\, Finland\, MN\, 55603
CATEGORIES:Youth Camp
ATTACH;FMTTYPE=image/png:https://wolf-ridge.org/wp-content/uploads/2024/11/10-12.png
END:VEVENT
BEGIN:VEVENT
DTSTART;VALUE=DATE:20260719
DTEND;VALUE=DATE:20260801
DTSTAMP:20260419T195637
CREATED:20251121T183457Z
LAST-MODIFIED:20251202T183823Z
UID:10000246-1784419200-1785542399@wolf-ridge.org
SUMMARY:Isle Royale Backpacking Adventure
DESCRIPTION:https://wolf-ridge.org/wp-content/uploads/2025/12/Isle-Royal-Video.mp4\nRegister for Isle Royale Backpack \nExplore Wilderness Trips \nFor students entering grades 9-12 \nThis camp includes an overnight camping adventure away from campus \nAn Unforgettable Adventure: Backpacking Camp at Isle Royale National Park\nKick off your adventurer’s summer with an exciting two-day experience at Wolf Ridge\, where they will prepare for an epic backpacking adventure! After building essential skills and team spirit\, campers will embark on a seven-day journey to Isle Royale National Park\, hiking 5-8 miles daily through its stunning and untamed landscape. \nOn the island\, your teen will explore ancient old-growth forests\, soak in breathtaking views of Lake Superior\, and share captivating stories around the campfire. They might even catch a glimpse of moose in their natural habitat! This immersive experience is designed to cultivate independence\, resilience\, and a deep appreciation for nature. \nUpon returning\, campers will enjoy a few more days at Wolf Ridge\, filled with thrilling activities such as rock climbing\, survival skills training\, and navigating the adventure ropes course. Each evening\, they will gather to reflect on their experiences and forge lasting friendships. \nThis camp perfectly blends the vibrant energy of Wolf Ridge summer camp with the unique adventure of backpacking across Isle Royale National Park—an experience unlike any other that your teenager will treasure for a lifetime.
URL:https://wolf-ridge.org/event/isle-royale-backpacking-adventure/
LOCATION:Wolf Ridge Environmental Learning Center\, 6282 Cranberry Road\, Finland\, MN\, 55603
CATEGORIES:Youth Camp
END:VEVENT
END:VCALENDAR