BEGIN:VCALENDAR
VERSION:2.0
PRODID:-//Wolf Ridge Environmental Learning Center - ECPv6.15.13//NONSGML v1.0//EN
CALSCALE:GREGORIAN
METHOD:PUBLISH
X-WR-CALNAME:Wolf Ridge Environmental Learning Center
X-ORIGINAL-URL:https://wolf-ridge.org
X-WR-CALDESC:Events for Wolf Ridge Environmental Learning Center
REFRESH-INTERVAL;VALUE=DURATION:PT1H
X-Robots-Tag:noindex
X-PUBLISHED-TTL:PT1H
BEGIN:VTIMEZONE
TZID:America/Chicago
BEGIN:DAYLIGHT
TZOFFSETFROM:-0600
TZOFFSETTO:-0500
TZNAME:CDT
DTSTART:20250309T080000
END:DAYLIGHT
BEGIN:STANDARD
TZOFFSETFROM:-0500
TZOFFSETTO:-0600
TZNAME:CST
DTSTART:20251102T070000
END:STANDARD
BEGIN:DAYLIGHT
TZOFFSETFROM:-0600
TZOFFSETTO:-0500
TZNAME:CDT
DTSTART:20260308T080000
END:DAYLIGHT
BEGIN:STANDARD
TZOFFSETFROM:-0500
TZOFFSETTO:-0600
TZNAME:CST
DTSTART:20261101T070000
END:STANDARD
BEGIN:DAYLIGHT
TZOFFSETFROM:-0600
TZOFFSETTO:-0500
TZNAME:CDT
DTSTART:20270314T080000
END:DAYLIGHT
BEGIN:STANDARD
TZOFFSETFROM:-0500
TZOFFSETTO:-0600
TZNAME:CST
DTSTART:20271107T070000
END:STANDARD
END:VTIMEZONE
BEGIN:VEVENT
DTSTART;TZID=America/Chicago:20260603T070000
DTEND;TZID=America/Chicago:20260603T110000
DTSTAMP:20260419T113107
CREATED:20251121T144504Z
LAST-MODIFIED:20251121T144504Z
UID:10000264-1780470000-1780484400@wolf-ridge.org
SUMMARY:Bird Banding Drop-In
DESCRIPTION:Registration not required for this event. \n\nSince 1993\, Wolf Ridge has been a site for a long-term international study to learn about the lives and health of migratory songbird populations. Visitors can observe these beautiful birds up-close and learn about the banding process and bird research. \nMeet at the Forest Ecology Building on any one of seven summer mornings. \nFree and open to all ages. Banding will be canceled on rainy days.
URL:https://wolf-ridge.org/event/bird-banding-drop-in/
LOCATION:Wolf Ridge Environmental Learning Center\, 6282 Cranberry Road\, Finland\, MN\, 55603
ATTACH;FMTTYPE=image/jpeg:https://wolf-ridge.org/wp-content/uploads/2022/04/bird-in-hand-MDurbin_DSC_0087-scaled.jpg
END:VEVENT
BEGIN:VEVENT
DTSTART;TZID=America/Chicago:20260610T070000
DTEND;TZID=America/Chicago:20260610T110000
DTSTAMP:20260419T113107
CREATED:20251121T144603Z
LAST-MODIFIED:20251121T144603Z
UID:10000265-1781074800-1781089200@wolf-ridge.org
SUMMARY:Bird Banding Drop-In
DESCRIPTION:Registration not required for this event. \n\nSince 1993\, Wolf Ridge has been a site for a long-term international study to learn about the lives and health of migratory songbird populations. Visitors can observe these beautiful birds up-close and learn about the banding process and bird research. \nMeet at the Forest Ecology Building on any one of seven summer mornings. \nFree and open to all ages. Banding will be canceled on rainy days.
URL:https://wolf-ridge.org/event/bird-banding-drop-in-9/
LOCATION:Wolf Ridge Environmental Learning Center\, 6282 Cranberry Road\, Finland\, MN\, 55603
ATTACH;FMTTYPE=image/jpeg:https://wolf-ridge.org/wp-content/uploads/2022/04/bird-in-hand-MDurbin_DSC_0087-scaled.jpg
END:VEVENT
BEGIN:VEVENT
DTSTART;TZID=America/Chicago:20260624T070000
DTEND;TZID=America/Chicago:20260624T110000
DTSTAMP:20260419T113107
CREATED:20251121T144707Z
LAST-MODIFIED:20251121T144707Z
UID:10000266-1782284400-1782298800@wolf-ridge.org
SUMMARY:Bird Banding Drop-In
DESCRIPTION:Registration not required for this event. \n\nSince 1993\, Wolf Ridge has been a site for a long-term international study to learn about the lives and health of migratory songbird populations. Visitors can observe these beautiful birds up-close and learn about the banding process and bird research. \nMeet at the Forest Ecology Building on any one of seven summer mornings. \nFree and open to all ages. Banding will be canceled on rainy days.
URL:https://wolf-ridge.org/event/bird-banding-drop-in-10/
LOCATION:Wolf Ridge Environmental Learning Center\, 6282 Cranberry Road\, Finland\, MN\, 55603
ATTACH;FMTTYPE=image/jpeg:https://wolf-ridge.org/wp-content/uploads/2022/04/bird-in-hand-MDurbin_DSC_0087-scaled.jpg
END:VEVENT
BEGIN:VEVENT
DTSTART;VALUE=DATE:20260705
DTEND;VALUE=DATE:20260711
DTSTAMP:20260419T113107
CREATED:20251121T183527Z
LAST-MODIFIED:20251125T211202Z
UID:10000243-1783209600-1783727999@wolf-ridge.org
SUMMARY:Girls Rock a Backpack Adventure
DESCRIPTION:Register for Girls Rock a Backpack Camp \nSummer Camp Website \nFor students entering grades 8-9 \nThis camp includes an overnight camping adventure away from campus \nHike. Learn. Grow. A Transformative Backcountry Experience for Girls on the Superior Trail\nSpend a week with Wolf Ridge and hike the Superior hiking trail learning practical skills along the way! This girls-only backpacking trip focuses on building a foundation in backcountry skills and a connection to wild places while fostering a sense of confidence in young women. Hike stunning overlooks and explore parts of the Superior National Forest camping in this truly special place! This is a great opportunity for those campers who have aged out of our Girls Rock the Ridge camp\, but are still looking for a challenge and building lifelong memories and skills! \nAre you looking for a transformative experience for your daughter? Join us for a week and hike the rugged Superior Hiking trail\, where young women can develop strength and confidence while learning essential outdoor skills. This world-renowned area\, celebrated for its breathtaking natural beauty and endless exploration opportunities\, provides the perfect backdrop for wilderness tripping and canoe camping.
URL:https://wolf-ridge.org/event/girls-rock-a-backpack-adventure/
LOCATION:Wolf Ridge Environmental Learning Center\, 6282 Cranberry Road\, Finland\, MN\, 55603
CATEGORIES:Youth Camp
ATTACH;FMTTYPE=image/jpeg:https://wolf-ridge.org/wp-content/uploads/young-students-backpacking-at-wolf-ridge-2-scaled.jpg
END:VEVENT
BEGIN:VEVENT
DTSTART;TZID=America/Chicago:20260708T070000
DTEND;TZID=America/Chicago:20260708T110000
DTSTAMP:20260419T113107
CREATED:20251121T144748Z
LAST-MODIFIED:20251121T144748Z
UID:10000267-1783494000-1783508400@wolf-ridge.org
SUMMARY:Bird Banding Drop-In
DESCRIPTION:Registration not required for this event. \n\nSince 1993\, Wolf Ridge has been a site for a long-term international study to learn about the lives and health of migratory songbird populations. Visitors can observe these beautiful birds up-close and learn about the banding process and bird research. \nMeet at the Forest Ecology Building on any one of seven summer mornings. \nFree and open to all ages. Banding will be canceled on rainy days.
URL:https://wolf-ridge.org/event/bird-banding-drop-in-11/
LOCATION:Wolf Ridge Environmental Learning Center\, 6282 Cranberry Road\, Finland\, MN\, 55603
ATTACH;FMTTYPE=image/jpeg:https://wolf-ridge.org/wp-content/uploads/2022/04/bird-in-hand-MDurbin_DSC_0087-scaled.jpg
END:VEVENT
BEGIN:VEVENT
DTSTART;TZID=America/Chicago:20260715T070000
DTEND;TZID=America/Chicago:20260715T110000
DTSTAMP:20260419T113107
CREATED:20251121T144841Z
LAST-MODIFIED:20251121T144841Z
UID:10000268-1784098800-1784113200@wolf-ridge.org
SUMMARY:Bird Banding Drop-In
DESCRIPTION:Registration not required for this event. \n\nSince 1993\, Wolf Ridge has been a site for a long-term international study to learn about the lives and health of migratory songbird populations. Visitors can observe these beautiful birds up-close and learn about the banding process and bird research. \nMeet at the Forest Ecology Building on any one of seven summer mornings. \nFree and open to all ages. Banding will be canceled on rainy days.
URL:https://wolf-ridge.org/event/bird-banding-drop-in-12/
LOCATION:Wolf Ridge Environmental Learning Center\, 6282 Cranberry Road\, Finland\, MN\, 55603
ATTACH;FMTTYPE=image/jpeg:https://wolf-ridge.org/wp-content/uploads/2022/04/bird-in-hand-MDurbin_DSC_0087-scaled.jpg
END:VEVENT
BEGIN:VEVENT
DTSTART;TZID=America/Chicago:20260722T070000
DTEND;TZID=America/Chicago:20260722T110000
DTSTAMP:20260419T113107
CREATED:20251121T144921Z
LAST-MODIFIED:20251121T144921Z
UID:10000269-1784703600-1784718000@wolf-ridge.org
SUMMARY:Bird Banding Drop-In
DESCRIPTION:Registration not required for this event. \n\nSince 1993\, Wolf Ridge has been a site for a long-term international study to learn about the lives and health of migratory songbird populations. Visitors can observe these beautiful birds up-close and learn about the banding process and bird research. \nMeet at the Forest Ecology Building on any one of seven summer mornings. \nFree and open to all ages. Banding will be canceled on rainy days.
URL:https://wolf-ridge.org/event/bird-banding-drop-in-13/
LOCATION:Wolf Ridge Environmental Learning Center\, 6282 Cranberry Road\, Finland\, MN\, 55603
ATTACH;FMTTYPE=image/jpeg:https://wolf-ridge.org/wp-content/uploads/2022/04/bird-in-hand-MDurbin_DSC_0087-scaled.jpg
END:VEVENT
BEGIN:VEVENT
DTSTART;TZID=America/Chicago:20260805T070000
DTEND;TZID=America/Chicago:20260805T110000
DTSTAMP:20260419T113107
CREATED:20251121T145016Z
LAST-MODIFIED:20251121T145016Z
UID:10000270-1785913200-1785927600@wolf-ridge.org
SUMMARY:Bird Banding Drop-In
DESCRIPTION:Registration not required for this event. \n\nSince 1993\, Wolf Ridge has been a site for a long-term international study to learn about the lives and health of migratory songbird populations. Visitors can observe these beautiful birds up-close and learn about the banding process and bird research. \nMeet at the Forest Ecology Building on any one of seven summer mornings. \nFree and open to all ages. Banding will be canceled on rainy days.
URL:https://wolf-ridge.org/event/bird-banding-drop-in-14/
LOCATION:Wolf Ridge Environmental Learning Center\, 6282 Cranberry Road\, Finland\, MN\, 55603
ATTACH;FMTTYPE=image/jpeg:https://wolf-ridge.org/wp-content/uploads/2022/04/bird-in-hand-MDurbin_DSC_0087-scaled.jpg
END:VEVENT
END:VCALENDAR